BEGIN:VCALENDAR
VERSION:2.0
PRODID:-//Murray McDavid Whisky - ECPv6.15.20//NONSGML v1.0//EN
CALSCALE:GREGORIAN
METHOD:PUBLISH
X-ORIGINAL-URL:https://murray-mcdavid.com
X-WR-CALDESC:Events for Murray McDavid Whisky
REFRESH-INTERVAL;VALUE=DURATION:PT1H
X-Robots-Tag:noindex
X-PUBLISHED-TTL:PT1H
BEGIN:VTIMEZONE
TZID:Europe/London
BEGIN:DAYLIGHT
TZOFFSETFROM:+0000
TZOFFSETTO:+0100
TZNAME:BST
DTSTART:20250330T010000
END:DAYLIGHT
BEGIN:STANDARD
TZOFFSETFROM:+0100
TZOFFSETTO:+0000
TZNAME:GMT
DTSTART:20251026T010000
END:STANDARD
BEGIN:DAYLIGHT
TZOFFSETFROM:+0000
TZOFFSETTO:+0100
TZNAME:BST
DTSTART:20260329T010000
END:DAYLIGHT
BEGIN:STANDARD
TZOFFSETFROM:+0100
TZOFFSETTO:+0000
TZNAME:GMT
DTSTART:20261025T010000
END:STANDARD
BEGIN:DAYLIGHT
TZOFFSETFROM:+0000
TZOFFSETTO:+0100
TZNAME:BST
DTSTART:20270328T010000
END:DAYLIGHT
BEGIN:STANDARD
TZOFFSETFROM:+0100
TZOFFSETTO:+0000
TZNAME:GMT
DTSTART:20271031T010000
END:STANDARD
END:VTIMEZONE
BEGIN:VEVENT
DTSTART;TZID=Europe/London:20260503T163000
DTEND;TZID=Europe/London:20260503T180000
DTSTAMP:20260424T132650
CREATED:20260223T170836Z
LAST-MODIFIED:20260223T170836Z
UID:8809-1777825800-1777831200@murray-mcdavid.com
SUMMARY:Art & Whisky on the Beach with Murray McDavid - Findhorn Beach Huts - 3 May
DESCRIPTION:Join me for an afternoon of whisky eccentricity at our charming beach huts in Findhorn. Overlooking the awe-inspiring Moray Firth Sea\, I will guide you to create your very own whisky masterpieces. While sipping a selection of inspired Scotch whisky\, you will be invited to draw\, paint or scribble not what you see… but what you experience in your glass of whisky. \nI hope to inspire your best artistic impressions\, prompting you to visualise the flavours of each dram\, while considering the nature of its character and even the emotion associated with each sip. \nThis is the Art of Maturation like never seen before! \nDean Jode\, Head of Whisky Creation – Murray McDavid \nWhat’s included: 3 x 2cl drams & art supplies. \nIf required\, please pre-order ‘Driver’s Drams’ before the event. \nAn on-site shop selling Murray McDavid whiskies\, including their 2026 Spirit of Speyside Festival Bottling. \nAccessibility note: Ramps have been installed near the beach huts to allow for easier wheelchair access. Please let us know if you have any specific accessibility needs\, and we’ll do our best to assist.\nRefund Policy: Request must be received 7 days before event.\nGetting here: For further information about transport\, directions\, accommodation\, drivers drams or accessibility\, please contact dean.jode@murray-mcdavid.com
URL:https://murray-mcdavid.com/event/art-whisky-on-the-beach-with-murray-mcdavid-findhorn-beach-huts-3-may/
LOCATION:Findhorn Beach\, Beach Huts\, Findhorn\, Moray\, IV36 3YE\, United Kingdom
CATEGORIES:Whisky Tasting
ATTACH;FMTTYPE=image/png:https://murray-mcdavid.com/wp-content/uploads/2026/02/The-Art-Whisky-on-the-Beach-with-Murray-McDavid-Findhorn-Beach-Huts.png
END:VEVENT
BEGIN:VEVENT
DTSTART;TZID=Europe/London:20260503T200000
DTEND;TZID=Europe/London:20260504T000000
DTSTAMP:20260424T132650
CREATED:20260223T165453Z
LAST-MODIFIED:20260223T165453Z
UID:8798-1777838400-1777852800@murray-mcdavid.com
SUMMARY:Meats\, Beats and Malts at The Old Bothy in the Speyside Wilderness - 3 May
DESCRIPTION:After a long festival week of lots of distillery tours\, late night whisky dinners and countless drams\, do not miss our closing event up at The Old Bothy. Here\, we have an enchanting and atmospheric 300-year-old stone ruin\, set in hills once notorious for illicit whisky-making. \nThis is a shout-out to guests of the festival and fellow whisky industry workers to join us at The Old Bothy for a party and one last chance to blow off steam. Come and share your stories of your week with others who have attended Scotland’s largest whisky festival. \nAs our very own DJ provides a mix of beats with a Scottish vibe\, gather round for a glug of whisky from The Old Bothy cask\, chow down on classic BBQ food and refreshments. Throughout the rest of the evening\, enjoy a fine selection of drams under the stars\, as we raise a glass to the Spirit of Speyside! \nDean Jode\, Head of Whisky Creation – Murray McDavid \nOffering: 5 x 2cl drams\, live music\, BBQ food and bar available. \nIf required\, please pre-order ‘Driver’s Drams’ before the event. \nWe will be in contact with guests regarding any special food requirements. \nAn on-site shop selling Murray McDavid whiskies\, including their 2026 Spirit of Speyside Festival Bottling. \nAccessibility: The path to The Old Bothy is uneven and\, on an incline\, which may make access challenging for those with limited mobility. Please let us know your accessibility needs\, and we’ll do our best to assist.\nRefund Policy: Request must be received 7 days before event.\nGetting here: For further information about transport\, directions\, accommodation\, drivers drams or accessibility\, please contact dean.jode@murray-mcdavid.com
URL:https://murray-mcdavid.com/event/meats-beats-and-malts-at-the-old-bothy-in-the-speyside-wilderness-3-may/
LOCATION:The Old Bothy\, Balliemore\, Glenrinnes\, Dufftown\, Moray\, AB55 4BX\, United Kingdom
CATEGORIES:Whisky Tasting
ATTACH;FMTTYPE=image/png:https://murray-mcdavid.com/wp-content/uploads/2026/02/Meats-Beats-and-Malts-at-The-Old-Bothy-in-the-Speyside-wilderness.png
END:VEVENT
END:VCALENDAR