BEGIN:VCALENDAR
VERSION:2.0
PRODID:-//Murray McDavid Whisky - ECPv6.15.20//NONSGML v1.0//EN
CALSCALE:GREGORIAN
METHOD:PUBLISH
X-WR-CALNAME:Murray McDavid Whisky
X-ORIGINAL-URL:https://murray-mcdavid.com
X-WR-CALDESC:Events for Murray McDavid Whisky
REFRESH-INTERVAL;VALUE=DURATION:PT1H
X-Robots-Tag:noindex
X-PUBLISHED-TTL:PT1H
BEGIN:VTIMEZONE
TZID:Europe/London
BEGIN:DAYLIGHT
TZOFFSETFROM:+0000
TZOFFSETTO:+0100
TZNAME:BST
DTSTART:20250330T010000
END:DAYLIGHT
BEGIN:STANDARD
TZOFFSETFROM:+0100
TZOFFSETTO:+0000
TZNAME:GMT
DTSTART:20251026T010000
END:STANDARD
BEGIN:DAYLIGHT
TZOFFSETFROM:+0000
TZOFFSETTO:+0100
TZNAME:BST
DTSTART:20260329T010000
END:DAYLIGHT
BEGIN:STANDARD
TZOFFSETFROM:+0100
TZOFFSETTO:+0000
TZNAME:GMT
DTSTART:20261025T010000
END:STANDARD
BEGIN:DAYLIGHT
TZOFFSETFROM:+0000
TZOFFSETTO:+0100
TZNAME:BST
DTSTART:20270328T010000
END:DAYLIGHT
BEGIN:STANDARD
TZOFFSETFROM:+0100
TZOFFSETTO:+0000
TZNAME:GMT
DTSTART:20271031T010000
END:STANDARD
END:VTIMEZONE
BEGIN:VEVENT
DTSTART;TZID=Europe/London:20260321T120000
DTEND;TZID=Europe/London:20260321T200000
DTSTAMP:20260422T095307
CREATED:20260223T152403Z
LAST-MODIFIED:20260223T152823Z
UID:8761-1774094400-1774123200@murray-mcdavid.com
SUMMARY:Independent Spirits Festival - 21 March
DESCRIPTION:We’re excited to be part of the Independent Spirits Festival 2026\, Scotland’s celebration of independent whisky bottlers and craft spirits\, taking place on Saturday 21 March 2026 at Leith Theatre in Edinburgh. \nThis one-day festival brings together some of the most passionate names in independent whisky\, offering attendees the chance to sample a diverse range of bottlings\, meet the people behind the brands\, and enjoy the vibrant whisky community in the heart of Scotland’s capital. \nRepresenting Murray McDavid across the event will be Becca and Dean\, ready to pour drams\, share stories and insight into our range\, and celebrate the art of independent bottling. Whether you’re tasting something truly rare\, exploring new flavour profiles\, or interested in the craft behind each bottle\, they’ll be on hand throughout the day to guide your experience. \nTickets for the Independent Spirits Festival include access to all exhibitors and tastings\, and this unique Edinburgh gathering is a must-visit for any whisky lover wanting to explore the creativity and diversity of the independent whisky world. \nWe look forward to seeing you there — Slàinte! 🥃
URL:https://murray-mcdavid.com/event/independent-spirits-festival-21-march2026/
LOCATION:Leith Theatre\, 28-30 Ferry Rd\, Edinburgh\, EH6 4AE\, United Kingdom
CATEGORIES:Whisky Festival
ATTACH;FMTTYPE=image/png:https://murray-mcdavid.com/wp-content/uploads/2026/02/Independent-Spirits-Festival-1.png
ORGANIZER;CN="Independent Spirits Festival":MAILTO:info@independentspirits.co.uk
END:VEVENT
BEGIN:VEVENT
DTSTART;TZID=Europe/London:20260314T120000
DTEND;TZID=Europe/London:20260314T190000
DTSTAMP:20260422T095307
CREATED:20260223T151312Z
LAST-MODIFIED:20260223T151312Z
UID:8756-1773489600-1773514800@murray-mcdavid.com
SUMMARY:Croydon Whisky Festival - 14 March
DESCRIPTION:Join us in London on Saturday 14 March 2026 for the 5th Annual Croydon Whisky Festival\, one of the UK’s most vibrant celebrations of independent whisky and craft spirits. Hosted at the impressive Stanley Arts in South Norwood\, this festival brings together a curated selection of independent distilleries and bottlers from around the world — with something to excite both seasoned whisky lovers and curious newcomers alike. \nWe’re delighted to announce that Dean Jode\, representing Murray McDavid\, will be on hand throughout the day to pour drams\, share insights into our approach to maturation\, and guide visitors through a selection of our latest single malts\, unique cask bottlings and festival favourites. Whether you’re keen to explore the stories behind our whiskies or simply enjoy a dram in great company\, Dean’s passion and expertise will bring the Murray McDavid experience to life in London. \nWith two festival sessions — 12:00–3:00pm and 4:00–7:00pm — your ticket includes a complimentary tasting glass and access to sample whiskies and spirits from dozens of exhibitors. You’ll also find masterclasses (additional booking advised)\, a lively food court to line your stomach\, and the chance to buy bottles directly from the brands themselves. \nCheers!
URL:https://murray-mcdavid.com/event/croydon-whisky-festival-14-march/
LOCATION:Stanley Arts\, 12 S Norwood Hill\, London\, SE25 6AB\, United Kingdom
CATEGORIES:Whisky Festival
ATTACH;FMTTYPE=image/png:https://murray-mcdavid.com/wp-content/uploads/2026/02/Croydon-Whisky-Festival.png
END:VEVENT
BEGIN:VEVENT
DTSTART;VALUE=DATE:20260227
DTEND;VALUE=DATE:20260302
DTSTAMP:20260422T095307
CREATED:20260219T085909Z
LAST-MODIFIED:20260225T164854Z
UID:8751-1772150400-1772409599@murray-mcdavid.com
SUMMARY:Fife Whisky Festival
DESCRIPTION:We’re delighted to share that Murray McDavid will be heading to Fife Whisky Festival 2026\, taking place from 27 February – 1 March 2026 — and we’re bringing great drams and even better company with us. \nThis fantastic celebration of whisky takes place across the Kingdom of Fife\, with events kicking off on Friday evening with the Opening Dinner at Lindores Abbey Distillery\, before the main festival fills the Corn Exchange in Cupar on Saturday with more than 50 distilleries and independent bottlers showcasing some of the finest whiskies from across Scotland and beyond. \nRepresenting Murray McDavid at the festival will be Liam\, who will be on hand throughout the weekend to pour a carefully curated selection of Murray McDavid whiskies\, share stories from behind the scenes\, and chat with fellow whisky lovers all about the #ArtofMaturation. \nWhether you’re joining a tasting session\, exploring new bottlings\, or simply soaking up the welcoming atmosphere of this growing whisky weekend\, the festival is a great opportunity to meet like-minded enthusiasts and discover something new. With tastings\, conversations and connections to be made\, it’s sure to be a memorable weekend. \nCome raise a glass with us in Fife — we can’t wait to see you there.
URL:https://murray-mcdavid.com/event/fife-whisky-festival/
LOCATION:Corn Exchange Cupar\, St Catherine St\, Cupar\, KY15 4BT\, United Kingdom
CATEGORIES:Whisky Festival
ATTACH;FMTTYPE=image/png:https://murray-mcdavid.com/wp-content/uploads/2026/02/Fife-Whisky-Festival.png
ORGANIZER;CN="Fife Whisky Festival":MAILTO:info@fifewhiskyfestival.com
END:VEVENT
BEGIN:VEVENT
DTSTART;VALUE=DATE:20260220
DTEND;VALUE=DATE:20260223
DTSTAMP:20260422T095307
CREATED:20260217T164033Z
LAST-MODIFIED:20260217T164033Z
UID:8704-1771545600-1771804799@murray-mcdavid.com
SUMMARY:Whisky Spring 2026
DESCRIPTION:From 20–22 February 2026\, Schwetzingen Palace becomes whisky heaven once again\, and we’re thrilled to be part of it! For the 12th edition of Whisky-Spring\, the largest whisky fair in the Rhine-Neckar region\, over 40 exhibitors will be showcasing more than 1\,400 different bottlings — and Murray McDavid will be there with a selection of our finest whiskies. \nRepresenting us at the fair will be Lily\, who can’t wait to share our passion for the #ArtofMaturation with both long-time whisky lovers and newcomers alike. Stop by our stand to taste\, discover\, and chat about the stories behind our single malts\, limited editions\, and festival bottlings. \nWhether you’re hunting for rare drams\, curious about the art of maturation\, or simply want a great whisky-filled weekend\, Murray McDavid at Whisky-Spring promises an experience full of flavour\, conversation\, and inspiration. \nSlàinte! 🥃
URL:https://murray-mcdavid.com/event/whisky-spring-2026/
LOCATION:Schwetzingen Palace\, Schloß Mittelbau\, Schwetzingen\, 68723\, Germany
CATEGORIES:Whisky Festival
ATTACH;FMTTYPE=image/jpeg:https://murray-mcdavid.com/wp-content/uploads/2025/01/Whisky-Spring.jpg
END:VEVENT
BEGIN:VEVENT
DTSTART;VALUE=DATE:20260206
DTEND;VALUE=DATE:20260209
DTSTAMP:20260422T095307
CREATED:20260129T134700Z
LAST-MODIFIED:20260129T134700Z
UID:8659-1770336000-1770595199@murray-mcdavid.com
SUMMARY:The Village - Whisk(e)y Festival Nuremberg
DESCRIPTION:We’re excited to announce that Lily will be representing Murray McDavid at THE VILLAGE in Nuremberg\, one of Europe’s premier whisky events. With over 3\,000 whisk(e)ys from 35 countries on display\, the fair offers a unique opportunity to explore rare expressions\, discover new favourites\, and connect with fellow enthusiasts. \nLily will be on hand throughout the event to showcase MMD’s range\, share expertise\, and guide visitors through our whiskies — from classic favourites to exceptional rarities. The cosy atmosphere of THE VILLAGE\, complete with live music\, artisan experiences\, and a taste of Scotland with haggis\, Guinness\, and scones\, makes this an unmissable event for connoisseurs and whisky lovers alike. \nMMD looks forward to connecting with trade partners\, enthusiasts\, and fellow connoisseurs\, and to celebrating the spirit of whisky on an international stage.
URL:https://murray-mcdavid.com/event/the-village-whiskey-festival-nuremberg/
LOCATION:Nuremberg Exhibition Centre\, Messezentrum 1\, Nürnberg\, 90471\, Germany
CATEGORIES:Whisky Festival
ATTACH;FMTTYPE=image/jpeg:https://murray-mcdavid.com/wp-content/uploads/2025/01/Whisky-Fest-Nuremberg-The-Village.jpeg
ORGANIZER;CN="Whisk(e)y - Messe N%C3%BCrnberg":MAILTO:info@whiskey-messe.de
END:VEVENT
END:VCALENDAR